BEGIN:VCALENDAR
PRODID:-//eluceo/ical//2.0/EN
VERSION:2.0
CALSCALE:GREGORIAN
BEGIN:VEVENT
UID:d0c4490766ed52e1aaa56e8c2b0a598f
DTSTAMP:20260419T133109Z
SUMMARY:11am SilverSneakers with Chris
DESCRIPTION:Community Review\nEvents Calendar\nhttps://communityreviewhbg.o
 rg/events-calendar/11am-silversneakers-with-chris-353246\n\nFriday 11am Si
 lverSneakers with Chris  Link changes by the week
DTSTART;TZID=America/New_York:20200605T110000
DTEND;TZID=America/New_York:20200605T120000
END:VEVENT
END:VCALENDAR
