BEGIN:VCALENDAR
PRODID:-//eluceo/ical//2.0/EN
VERSION:2.0
CALSCALE:GREGORIAN
BEGIN:VEVENT
UID:6129707ba240de55eba2767a2cc9a75f
DTSTAMP:20260421T143418Z
SUMMARY:11am SilverSneakers with Kathy
DESCRIPTION:Community Review\nEvents Calendar\nhttps://communityreviewhbg.o
 rg/events-calendar/11am-silversneakers-with-kathy-353237\n\nWednesday 11am
  SilverSneakers with Kathy Link different each week
DTSTART;TZID=America/New_York:20200603T110000
DTEND;TZID=America/New_York:20200603T120000
END:VEVENT
END:VCALENDAR
