BEGIN:VCALENDAR
PRODID:-//eluceo/ical//2.0/EN
VERSION:2.0
CALSCALE:GREGORIAN
BEGIN:VEVENT
UID:46faa79931e4ab2e81fde49720ffc758
DTSTAMP:20260421T130107Z
SUMMARY:A Capella Group Practice
DESCRIPTION:Community Review\nEvents Calendar\nhttps://communityreviewhbg.o
 rg/events-calendar/a-capella-group-practice11-8-15-168132\n\npractice befo
 re performance at Kristallnacht program
DTSTART;TZID=America/New_York:20151108T150000
DTEND;TZID=America/New_York:20151108T170000
END:VEVENT
END:VCALENDAR
