BEGIN:VCALENDAR
PRODID:-//eluceo/ical//2.0/EN
VERSION:2.0
CALSCALE:GREGORIAN
BEGIN:VEVENT
UID:0c198135dcded6b80d79f87afbdf1774
DTSTAMP:20260421T223457Z
SUMMARY:BBYO Convention
DESCRIPTION:Community Review\nEvents Calendar\nhttps://communityreviewhbg.o
 rg/events-calendar/bbyo-convention11-15-145417\n\nBBYO Convention
DTSTART;TZID=America/New_York:20151113T160000
DTEND;TZID=America/New_York:20151113T220000
END:VEVENT
END:VCALENDAR
