BEGIN:VCALENDAR
PRODID:-//eluceo/ical//2.0/EN
VERSION:2.0
CALSCALE:GREGORIAN
BEGIN:VEVENT
UID:2f1dd534acff0dc9df9e2808ee51315e
DTSTAMP:20260422T000842Z
SUMMARY:Camp Gan Late Night
DESCRIPTION:Community Review\nEvents Calendar\nhttps://communityreviewhbg.o
 rg/events-calendar/camp-gan-late-night-163538\n\nCamp Gan late night at Gr
 een Hills - kindergarten
DTSTART;TZID=America/New_York:20160707T160000
DTEND;TZID=America/New_York:20160707T173000
END:VEVENT
END:VCALENDAR
