BEGIN:VCALENDAR
PRODID:-//eluceo/ical//2.0/EN
VERSION:2.0
CALSCALE:GREGORIAN
BEGIN:VEVENT
UID:cf108284c231cf5b834e9f8836aa0a8e
DTSTAMP:20260421T125905Z
SUMMARY:Camp Sabra dinner
DESCRIPTION:Community Review\nEvents Calendar\nhttps://communityreviewhbg.o
 rg/events-calendar/camp-sabra-dinner8-6-15-140683\n\ndinner
DTSTART;TZID=America/New_York:20150806T160000
DTEND;TZID=America/New_York:20150806T173000
END:VEVENT
END:VCALENDAR
