BEGIN:VCALENDAR
PRODID:-//eluceo/ical//2.0/EN
VERSION:2.0
CALSCALE:GREGORIAN
BEGIN:VEVENT
UID:6aa62c30e2efb1ecf9163d7be0df4630
DTSTAMP:20260421T130037Z
SUMMARY:ELC Chanukah Party
DESCRIPTION:Community Review\nEvents Calendar\nhttps://communityreviewhbg.o
 rg/events-calendar/elc-chanukah-party-122708\n\nELC Chanukah party\n\nsong
 s\, food and crafts
DTSTART;TZID=America/New_York:20141219T100000
DTEND;TZID=America/New_York:20141219T120000
END:VEVENT
END:VCALENDAR
