BEGIN:VCALENDAR
PRODID:-//eluceo/ical//2.0/EN
VERSION:2.0
CALSCALE:GREGORIAN
BEGIN:VEVENT
UID:74b096df9bc3b255077cfa032daa5138
DTSTAMP:20260421T083824Z
SUMMARY:Federation Rental
DESCRIPTION:Community Review\nEvents Calendar\nhttps://communityreviewhbg.o
 rg/events-calendar/federation-rental-DCAA-Council-May-2026-511564\n\nFeder
 ation Rental
DTSTART;TZID=America/New_York:20260519T084500
DTEND;TZID=America/New_York:20260519T103000
END:VEVENT
END:VCALENDAR
