BEGIN:VCALENDAR
PRODID:-//eluceo/ical//2.0/EN
VERSION:2.0
CALSCALE:GREGORIAN
BEGIN:VEVENT
UID:5e5df4935d4e812c6b0908fec4e03975
DTSTAMP:20260419T125211Z
SUMMARY:Federation Rental Setup
DESCRIPTION:Community Review\nEvents Calendar\nhttps://communityreviewhbg.o
 rg/events-calendar/federation-rental-setup-3-27-15-138858\n\nsetup for ren
 tal
DTSTART;TZID=America/New_York:20150327T100000
DTEND;TZID=America/New_York:20150327T180000
END:VEVENT
END:VCALENDAR
