BEGIN:VCALENDAR
PRODID:-//eluceo/ical//2.0/EN
VERSION:2.0
CALSCALE:GREGORIAN
BEGIN:VEVENT
UID:4bfc941d095ad5a98921da58b0d36d65
DTSTAMP:20260421T143250Z
SUMMARY:Federation Rental - Setup
DESCRIPTION:Community Review\nEvents Calendar\nhttps://communityreviewhbg.o
 rg/events-calendar/federation-rental-setup-9-16-16-62421\n\nFederation Ren
 tal Setup
DTSTART;TZID=America/New_York:20160916T120000
DTEND;TZID=America/New_York:20160916T180000
END:VEVENT
END:VCALENDAR
