BEGIN:VCALENDAR
PRODID:-//eluceo/ical//2.0/EN
VERSION:2.0
CALSCALE:GREGORIAN
BEGIN:VEVENT
UID:1193acc6909a7caabb1908ef8fb9b1ea
DTSTAMP:20260421T090238Z
SUMMARY:Federation Rental
DESCRIPTION:Community Review\nEvents Calendar\nhttps://communityreviewhbg.o
 rg/events-calendar/federation-rental7-24-16-199538\n\nFederation Rental
DTSTART;TZID=America/New_York:20160724T110000
DTEND;TZID=America/New_York:20160724T160000
END:VEVENT
END:VCALENDAR
