BEGIN:VCALENDAR
PRODID:-//eluceo/ical//2.0/EN
VERSION:2.0
CALSCALE:GREGORIAN
BEGIN:VEVENT
UID:414d32ff97dda24f344875e59da5f8b6
DTSTAMP:20260422T000613Z
SUMMARY:Federation Rental
DESCRIPTION:Community Review\nEvents Calendar\nhttps://communityreviewhbg.o
 rg/events-calendar/federation-rental8-15-143366\n\nFederation Rental
DTSTART;TZID=America/New_York:20150804T090000
DTEND;TZID=America/New_York:20150804T170000
END:VEVENT
END:VCALENDAR
