BEGIN:VCALENDAR
PRODID:-//eluceo/ical//2.0/EN
VERSION:2.0
CALSCALE:GREGORIAN
BEGIN:VEVENT
UID:64c62e8cad5102fd2214a92c119860a5
DTSTAMP:20260421T175709Z
SUMMARY:Foundation Budget Committee Mtg.
DESCRIPTION:Community Review\nEvents Calendar\nhttps://communityreviewhbg.o
 rg/events-calendar/foundation-budget-committee-mtg-8-4-2015-154616\n\nFdn 
 Budget
DTSTART;TZID=America/New_York:20150804T173000
DTEND;TZID=America/New_York:20150804T190000
END:VEVENT
END:VCALENDAR
