BEGIN:VCALENDAR
PRODID:-//eluceo/ical//2.0/EN
VERSION:2.0
CALSCALE:GREGORIAN
BEGIN:VEVENT
UID:9d7ca2c1c19ad4b64e1e0ee8246223c3
DTSTAMP:20260421T100643Z
SUMMARY:Foundation Budget Committee Mtg.
DESCRIPTION:Community Review\nEvents Calendar\nhttps://communityreviewhbg.o
 rg/events-calendar/foundation-budget-committee-mtg-9-17-2014-102835\n\nFou
 ndation Budget Comm. Mtg.
DTSTART;TZID=America/New_York:20140917T173000
DTEND;TZID=America/New_York:20140917T190000
END:VEVENT
END:VCALENDAR
