BEGIN:VCALENDAR
PRODID:-//eluceo/ical//2.0/EN
VERSION:2.0
CALSCALE:GREGORIAN
BEGIN:VEVENT
UID:4c47deb913ca98c8e6e5e0c218316745
DTSTAMP:20260421T173955Z
SUMMARY:FOUNDATION OFFICE USE-L&L
DESCRIPTION:Community Review\nEvents Calendar\nhttps://communityreviewhbg.o
 rg/events-calendar/foundation-office-use-ll-11-16-2015-171594\n\nLong term
  use as Foundation Office\n 
DTSTART;TZID=America/New_York:20151116T090000
DTEND;TZID=America/New_York:20151116T170000
END:VEVENT
END:VCALENDAR
