BEGIN:VCALENDAR
PRODID:-//eluceo/ical//2.0/EN
VERSION:2.0
CALSCALE:GREGORIAN
BEGIN:VEVENT
UID:504a241383ef80f7f355705e64b44bfb
DTSTAMP:20260421T144653Z
SUMMARY:Foundation: York Community Meeting
DESCRIPTION:Community Review\nEvents Calendar\nhttps://communityreviewhbg.o
 rg/events-calendar/foundation-york-community-meeting-11-19-2014-119002\n\n
 Foundation's York Community Meet and Greet
DTSTART;TZID=America/New_York:20141119T180000
DTEND;TZID=America/New_York:20141119T210000
END:VEVENT
END:VCALENDAR
