BEGIN:VCALENDAR
PRODID:-//eluceo/ical//2.0/EN
VERSION:2.0
CALSCALE:GREGORIAN
BEGIN:VEVENT
UID:3c413846fb5c71ef8948e76fbc78b98d
DTSTAMP:20260421T114251Z
SUMMARY:Harrisburg Young Professionals
DESCRIPTION:Community Review\nEvents Calendar\nhttps://communityreviewhbg.o
 rg/events-calendar/harrisburg-young-professionals-2ndtues-5-14-62484\n\nHa
 rrisburg Young Professionals
DTSTART;TZID=America/New_York:20141111T181500
DTEND;TZID=America/New_York:20141111T191500
END:VEVENT
END:VCALENDAR
