BEGIN:VCALENDAR
PRODID:-//eluceo/ical//2.0/EN
VERSION:2.0
CALSCALE:GREGORIAN
BEGIN:VEVENT
UID:f642f70171c93f1ba2615fe8b76db49b
DTSTAMP:20260421T161051Z
SUMMARY:HBG Young Professional Basketball
DESCRIPTION:Community Review\nEvents Calendar\nhttps://communityreviewhbg.o
 rg/events-calendar/hbg-young-professional-basketball-28806\n\nHBG Young Pr
 ofessional Basketball
DTSTART;TZID=America/New_York:20130406T103000
DTEND;TZID=America/New_York:20130406T123000
END:VEVENT
END:VCALENDAR
