BEGIN:VCALENDAR
PRODID:-//eluceo/ical//2.0/EN
VERSION:2.0
CALSCALE:GREGORIAN
BEGIN:VEVENT
UID:3eed9ffdd68e55d6e600be598b0ae2c1
DTSTAMP:20260421T193826Z
SUMMARY:JFS Total Quality Committee Meeting
DESCRIPTION:Community Review\nEvents Calendar\nhttps://communityreviewhbg.o
 rg/events-calendar/jfs-total-quality-committee-meeting-170018\n\ncommittee
  meeting
DTSTART;TZID=America/New_York:20151103T193000
DTEND;TZID=America/New_York:20151103T210000
END:VEVENT
END:VCALENDAR
