BEGIN:VCALENDAR
PRODID:-//eluceo/ical//2.0/EN
VERSION:2.0
CALSCALE:GREGORIAN
BEGIN:VEVENT
UID:503dc929da218907e59d86d1e5e53fb9
DTSTAMP:20260421T113130Z
SUMMARY:Maimonides Committee
DESCRIPTION:Community Review\nEvents Calendar\nhttps://communityreviewhbg.o
 rg/events-calendar/maimonides-committee5316-189124\n\nMCM
DTSTART;TZID=America/New_York:20160503T183000
DTEND;TZID=America/New_York:20160503T193000
END:VEVENT
END:VCALENDAR
