BEGIN:VCALENDAR
PRODID:-//eluceo/ical//2.0/EN
VERSION:2.0
CALSCALE:GREGORIAN
BEGIN:VEVENT
UID:1a1e3c4939cd31a630272f8043e4f7ca
DTSTAMP:20260421T143535Z
SUMMARY:PASSHE Meeting at Grass Campus
DESCRIPTION:Community Review\nEvents Calendar\nhttps://communityreviewhbg.o
 rg/events-calendar/passhe-meeting-at-grass-campus4-2024-450141\n\nPASSHE B
 oard of Governors Meeting at Grass Campus
DTSTART;TZID=America/New_York:20240411T090000
DTEND;TZID=America/New_York:20240411T170000
END:VEVENT
END:VCALENDAR
