BEGIN:VCALENDAR
PRODID:-//eluceo/ical//2.0/EN
VERSION:2.0
CALSCALE:GREGORIAN
BEGIN:VEVENT
UID:845d83b6c403b8bbd8e8045be0eba037
DTSTAMP:20260421T125855Z
SUMMARY:SA 1st Grade Siddur Celebration
DESCRIPTION:Community Review\nEvents Calendar\nhttps://communityreviewhbg.o
 rg/events-calendar/sa-1st-grade-siddur-celebration-149917\n\nSA 1st Grade 
 Siddur Celebration
DTSTART;TZID=America/New_York:20160211T184500
DTEND;TZID=America/New_York:20160211T200000
END:VEVENT
END:VCALENDAR
