BEGIN:VCALENDAR
PRODID:-//eluceo/ical//2.0/EN
VERSION:2.0
CALSCALE:GREGORIAN
BEGIN:VEVENT
UID:5acb8dfe7334d34a919f9846d76e5a10
DTSTAMP:20260419T131147Z
SUMMARY:SA Board Meeting
DESCRIPTION:Community Review\nEvents Calendar\nhttps://communityreviewhbg.o
 rg/events-calendar/sa-boad-meeting-8-31-15-153391\n\nSA Board Meeting
DTSTART;TZID=America/New_York:20150831T193000
DTEND;TZID=America/New_York:20150831T210000
END:VEVENT
END:VCALENDAR
