BEGIN:VCALENDAR
PRODID:-//eluceo/ical//2.0/EN
VERSION:2.0
CALSCALE:GREGORIAN
BEGIN:VEVENT
UID:64112435af2f2aa3736e88df60b5b119
DTSTAMP:20260421T101838Z
SUMMARY:SA Class Visit to Science Fair & Science Fair
DESCRIPTION:Community Review\nEvents Calendar\nhttps://communityreviewhbg.o
 rg/events-calendar/sa-class-visit-to-science-fair-science-fair-76155\n\nSi
 lver Academy class visits to the science fair during the day and science 
 fair beginning at 6:45. \n 
DTSTART;TZID=America/New_York:20150122T080000
DTEND;TZID=America/New_York:20150122T200000
END:VEVENT
END:VCALENDAR
