BEGIN:VCALENDAR
PRODID:-//eluceo/ical//2.0/EN
VERSION:2.0
CALSCALE:GREGORIAN
BEGIN:VEVENT
UID:0bbc7fd0e3ea0f07ca9b1b889c90fcb9
DTSTAMP:20260421T100456Z
SUMMARY:SA Foundation Campaign Committee
DESCRIPTION:Community Review\nEvents Calendar\nhttps://communityreviewhbg.o
 rg/events-calendar/sa-foundation-campaign-committee-215024\n\nSA Foundatio
 n Campaign Committee
DTSTART;TZID=America/New_York:20161207T160000
DTEND;TZID=America/New_York:20161207T190000
END:VEVENT
END:VCALENDAR
