BEGIN:VCALENDAR
PRODID:-//eluceo/ical//2.0/EN
VERSION:2.0
CALSCALE:GREGORIAN
BEGIN:VEVENT
UID:0f3714f34775b826a4b9f5594eb9c236
DTSTAMP:20260421T083833Z
SUMMARY:SA Parent/Teacher Conferences
DESCRIPTION:Community Review\nEvents Calendar\nhttps://communityreviewhbg.o
 rg/events-calendar/sa-parent-conferences-11-18-14-76107\n\nParent Teacher 
 Conferences\n 
DTSTART;TZID=America/New_York:20141118T183000
DTEND;TZID=America/New_York:20141118T203000
END:VEVENT
END:VCALENDAR
