BEGIN:VCALENDAR
PRODID:-//eluceo/ical//2.0/EN
VERSION:2.0
CALSCALE:GREGORIAN
BEGIN:VEVENT
UID:d57228605800dca88f70ca8a1856f7bf
DTSTAMP:20260421T191848Z
SUMMARY:Safety Meeting- January
DESCRIPTION:Community Review\nEvents Calendar\nhttps://communityreviewhbg.o
 rg/events-calendar/safety-meeting-january-218593\n\nStaff meeting
DTSTART;TZID=America/New_York:20170111T100000
DTEND;TZID=America/New_York:20170111T110000
END:VEVENT
END:VCALENDAR
