BEGIN:VCALENDAR
PRODID:-//eluceo/ical//2.0/EN
VERSION:2.0
CALSCALE:GREGORIAN
BEGIN:VEVENT
UID:86c46818dd0f3197f8084dddc8e1adf7
DTSTAMP:20260421T203723Z
SUMMARY:SilverSneakers Classic
DESCRIPTION:Community Review\nEvents Calendar\nhttps://communityreviewhbg.o
 rg/events-calendar/silversneakers-classic2015-155657\n\nSilverSneakers Cla
 ssic
DTSTART;TZID=America/New_York:20150827T091500
DTEND;TZID=America/New_York:20150827T101500
END:VEVENT
END:VCALENDAR
