BEGIN:VCALENDAR
PRODID:-//eluceo/ical//2.0/EN
VERSION:2.0
CALSCALE:GREGORIAN
BEGIN:VEVENT
UID:b33eca38cf8aa95cc9dee6b4fb34500e
DTSTAMP:20260419T124941Z
SUMMARY:SilverSneakers Yoga-Stretch
DESCRIPTION:Community Review\nEvents Calendar\nhttps://communityreviewhbg.o
 rg/events-calendar/silversneakers-yoga-stretch-28676\n\nSilversneakers Yog
 a-Stretch
DTSTART;TZID=America/New_York:20130807T114500
DTEND;TZID=America/New_York:20130807T123000
END:VEVENT
END:VCALENDAR
