BEGIN:VCALENDAR
PRODID:-//eluceo/ical//2.0/EN
VERSION:2.0
CALSCALE:GREGORIAN
BEGIN:VEVENT
UID:be12d8ac2d960410ead2e01631d8793e
DTSTAMP:20260421T100859Z
SUMMARY:Temple Ohev Sholom - Sisterhood Special Program
DESCRIPTION:Community Review\nEvents Calendar\nhttps://communityreviewhbg.o
 rg/events-calendar/temple-ohev-sholom---sisterhood-special-program-1611324
 318-372826\n\nOur annual Sisterhood Brunch will look a little different th
 is year\, but we are still planning to have a great speaker.\nJoin us on Z
 oom as Mary Klaus discusses her numerous medical missions across the globe
 .
DTSTART;TZID=America/New_York:20210221T100000
DTEND;TZID=America/New_York:20210221T110000
END:VEVENT
END:VCALENDAR
