BEGIN:VCALENDAR
PRODID:-//eluceo/ical//2.0/EN
VERSION:2.0
CALSCALE:GREGORIAN
BEGIN:VEVENT
UID:6d48e0a53e24abb2cb9a72a6d990c380
DTSTAMP:20260421T125745Z
SUMMARY:Yoga
DESCRIPTION:Community Review\nEvents Calendar\nhttps://communityreviewhbg.o
 rg/events-calendar/yogaFY16-187872\n\nYoga
DTSTART;TZID=America/New_York:20160601T173000
DTEND;TZID=America/New_York:20160601T183000
END:VEVENT
END:VCALENDAR
