BEGIN:VCALENDAR
PRODID:-//eluceo/ical//2.0/EN
VERSION:2.0
CALSCALE:GREGORIAN
BEGIN:VEVENT
UID:f4f5dcd0827a5b3e53e71d5eb47defdb
DTSTAMP:20260421T042842Z
SUMMARY:Yom Hazikaron
DESCRIPTION:Community Review\nEvents Calendar\nhttps://communityreviewhbg.o
 rg/events-calendar/yom-hazikaron4-21-514497\n\nJoin us for a combined prog
 ram commemorating Yom Hazikaron\, honoring victims of war and terror\, and
  celebrating Yom Haatzmaut\, featuring kosher food\, activities\, and fest
 ive fun and Israeli culture.
DTSTART;TZID=America/New_York:20260421T173000
DTEND;TZID=America/New_York:20260421T200000
END:VEVENT
END:VCALENDAR
