BEGIN:VCALENDAR
PRODID:-//eluceo/ical//2.0/EN
VERSION:2.0
CALSCALE:GREGORIAN
BEGIN:VEVENT
UID:ae936bfb03554769ade18449a0b52621
DTSTAMP:20260419T161608Z
SUMMARY:Zumba
DESCRIPTION:Community Review\nEvents Calendar\nhttps://communityreviewhbg.o
 rg/events-calendar/zumba-FY2015-106652\n\nDynamic fitness workout that wil
 l blow you away.  Come join the party!
DTSTART;TZID=America/New_York:20141124T173000
DTEND;TZID=America/New_York:20141124T183000
END:VEVENT
END:VCALENDAR
